BEGIN:VCALENDAR
VERSION:2.0
PRODID:-//Comet Brews - ECPv6.15.20//NONSGML v1.0//EN
CALSCALE:GREGORIAN
METHOD:PUBLISH
X-ORIGINAL-URL:https://cometbrews.com
X-WR-CALDESC:Events for Comet Brews
REFRESH-INTERVAL;VALUE=DURATION:PT1H
X-Robots-Tag:noindex
X-PUBLISHED-TTL:PT1H
BEGIN:VTIMEZONE
TZID:America/Denver
BEGIN:DAYLIGHT
TZOFFSETFROM:-0700
TZOFFSETTO:-0600
TZNAME:MDT
DTSTART:20250309T090000
END:DAYLIGHT
BEGIN:STANDARD
TZOFFSETFROM:-0600
TZOFFSETTO:-0700
TZNAME:MST
DTSTART:20251102T080000
END:STANDARD
BEGIN:DAYLIGHT
TZOFFSETFROM:-0700
TZOFFSETTO:-0600
TZNAME:MDT
DTSTART:20260308T090000
END:DAYLIGHT
BEGIN:STANDARD
TZOFFSETFROM:-0600
TZOFFSETTO:-0700
TZNAME:MST
DTSTART:20261101T080000
END:STANDARD
BEGIN:DAYLIGHT
TZOFFSETFROM:-0700
TZOFFSETTO:-0600
TZNAME:MDT
DTSTART:20270314T090000
END:DAYLIGHT
BEGIN:STANDARD
TZOFFSETFROM:-0600
TZOFFSETTO:-0700
TZNAME:MST
DTSTART:20271107T080000
END:STANDARD
END:VTIMEZONE
BEGIN:VEVENT
DTSTART;TZID=America/Denver:20260205T190000
DTEND;TZID=America/Denver:20260205T210000
DTSTAMP:20260422T034418
CREATED:20240313T052431Z
LAST-MODIFIED:20240314T151436Z
UID:10000883-1770318000-1770325200@cometbrews.com
SUMMARY:Trivia Night
DESCRIPTION:Come enjoy a fun\, inclusive night of trivia\, hosted by Denver Trivia League. Prizes\, good beer\, good people!
URL:https://cometbrews.com/event/trivia-night/2026-02-05/
LOCATION:Comet Brews\, 5642 S Sycamore St\, Littleton\, CO\, 80120\, United States
ATTACH;FMTTYPE=image/jpeg:https://cometbrews.com/wp-content/uploads/2023/12/unnamed-2.jpg
END:VEVENT
BEGIN:VEVENT
DTSTART;TZID=America/Denver:20260212T180000
DTEND;TZID=America/Denver:20260212T190000
DTSTAMP:20260422T034418
CREATED:20260211T161145Z
LAST-MODIFIED:20260211T161145Z
UID:10001047-1770919200-1770922800@cometbrews.com
SUMMARY:Palentine's Bouquet Making
DESCRIPTION:Come celebrate Palentine’s Day with bouquet making and brews! Cost includes $25 for the bouquet\, supplies\, and a brew of your choice!
URL:https://cometbrews.com/event/palentines-bouquet-making/
LOCATION:Comet Brews\, 5642 S Sycamore St\, Littleton\, CO\, 80120\, United States
END:VEVENT
BEGIN:VEVENT
DTSTART;TZID=America/Denver:20260212T190000
DTEND;TZID=America/Denver:20260212T210000
DTSTAMP:20260422T034418
CREATED:20240313T052431Z
LAST-MODIFIED:20240314T151436Z
UID:10000884-1770922800-1770930000@cometbrews.com
SUMMARY:Trivia Night
DESCRIPTION:Come enjoy a fun\, inclusive night of trivia\, hosted by Denver Trivia League. Prizes\, good beer\, good people!
URL:https://cometbrews.com/event/trivia-night/2026-02-12/
LOCATION:Comet Brews\, 5642 S Sycamore St\, Littleton\, CO\, 80120\, United States
ATTACH;FMTTYPE=image/jpeg:https://cometbrews.com/wp-content/uploads/2023/12/unnamed-2.jpg
END:VEVENT
BEGIN:VEVENT
DTSTART;TZID=America/Denver:20260219T190000
DTEND;TZID=America/Denver:20260219T210000
DTSTAMP:20260422T034418
CREATED:20240313T052431Z
LAST-MODIFIED:20240314T151436Z
UID:10000885-1771527600-1771534800@cometbrews.com
SUMMARY:Trivia Night
DESCRIPTION:Come enjoy a fun\, inclusive night of trivia\, hosted by Denver Trivia League. Prizes\, good beer\, good people!
URL:https://cometbrews.com/event/trivia-night/2026-02-19/
LOCATION:Comet Brews\, 5642 S Sycamore St\, Littleton\, CO\, 80120\, United States
ATTACH;FMTTYPE=image/jpeg:https://cometbrews.com/wp-content/uploads/2023/12/unnamed-2.jpg
END:VEVENT
BEGIN:VEVENT
DTSTART;TZID=America/Denver:20260226T190000
DTEND;TZID=America/Denver:20260226T210000
DTSTAMP:20260422T034418
CREATED:20240313T052431Z
LAST-MODIFIED:20240314T151436Z
UID:10000886-1772132400-1772139600@cometbrews.com
SUMMARY:Trivia Night
DESCRIPTION:Come enjoy a fun\, inclusive night of trivia\, hosted by Denver Trivia League. Prizes\, good beer\, good people!
URL:https://cometbrews.com/event/trivia-night/2026-02-26/
LOCATION:Comet Brews\, 5642 S Sycamore St\, Littleton\, CO\, 80120\, United States
ATTACH;FMTTYPE=image/jpeg:https://cometbrews.com/wp-content/uploads/2023/12/unnamed-2.jpg
END:VEVENT
END:VCALENDAR