BEGIN:VCALENDAR
VERSION:2.0
PRODID:-//Comet Brews - ECPv6.15.20//NONSGML v1.0//EN
CALSCALE:GREGORIAN
METHOD:PUBLISH
X-ORIGINAL-URL:https://cometbrews.com
X-WR-CALDESC:Events for Comet Brews
REFRESH-INTERVAL;VALUE=DURATION:PT1H
X-Robots-Tag:noindex
X-PUBLISHED-TTL:PT1H
BEGIN:VTIMEZONE
TZID:America/Denver
BEGIN:DAYLIGHT
TZOFFSETFROM:-0700
TZOFFSETTO:-0600
TZNAME:MDT
DTSTART:20230312T090000
END:DAYLIGHT
BEGIN:STANDARD
TZOFFSETFROM:-0600
TZOFFSETTO:-0700
TZNAME:MST
DTSTART:20231105T080000
END:STANDARD
BEGIN:DAYLIGHT
TZOFFSETFROM:-0700
TZOFFSETTO:-0600
TZNAME:MDT
DTSTART:20240310T090000
END:DAYLIGHT
BEGIN:STANDARD
TZOFFSETFROM:-0600
TZOFFSETTO:-0700
TZNAME:MST
DTSTART:20241103T080000
END:STANDARD
BEGIN:DAYLIGHT
TZOFFSETFROM:-0700
TZOFFSETTO:-0600
TZNAME:MDT
DTSTART:20250309T090000
END:DAYLIGHT
BEGIN:STANDARD
TZOFFSETFROM:-0600
TZOFFSETTO:-0700
TZNAME:MST
DTSTART:20251102T080000
END:STANDARD
END:VTIMEZONE
BEGIN:VEVENT
DTSTART;TZID=America/Denver:20240622T163000
DTEND;TZID=America/Denver:20240622T190000
DTSTAMP:20260420T211857
CREATED:20240620T214741Z
LAST-MODIFIED:20240620T214742Z
UID:10001046-1719073800-1719082800@cometbrews.com
SUMMARY:Cousins Maine Lobster Food Truck Pop Up
DESCRIPTION:Bringing Maine Lobster to Comet Brews this Saturday!
URL:https://cometbrews.com/event/cousins-maine-lobster-food-truck-pop-up/
LOCATION:Comet Brews\, 5642 S Sycamore St\, Littleton\, CO\, 80120\, United States
ORGANIZER;CN="Cousins Maine Lobster":MAILTO:denver@cousinsmainelobster.com
END:VEVENT
END:VCALENDAR